BEGIN:VCALENDAR
VERSION:2.0
PRODID:-//https://www.bpyc.on.ca///NONSGML kigkonsult.se iCalcreator 2.10.15//
METHOD:PUBLISH
BEGIN:VEVENT
UID:20260424T092352UTC-8125VS2bCs@https://www.bpyc.on.ca/
DTSTAMP:20260424T092352Z
DESCRIPTION: https://www.bpyc.on.ca/index.php/racing/racing-schedule/event/
 1223-fun-series-race-1
DTSTART:20260609T230000Z
DTEND:20260610T014500Z
LOCATION:Highland Yacht Club (5  Brimley Rd\, Toronto\, ON M1M 3W3 Canada)
SUMMARY:Fun Series Race 1
URL:https://www.bpyc.on.ca/index.php/racing/racing-schedule/event/1223-fun-
 series-race-1
END:VEVENT
END:VCALENDAR
