BEGIN:VCALENDAR
VERSION:2.0
PRODID:-//https://www.bpyc.on.ca///NONSGML kigkonsult.se iCalcreator 2.10.15//
METHOD:PUBLISH
BEGIN:VEVENT
UID:20260424T092401UTC-6319SSk4pU@https://www.bpyc.on.ca/
DTSTAMP:20260424T092401Z
DESCRIPTION: https://www.bpyc.on.ca/index.php/racing/racing-schedule/event/
 1226-fun-series-race-4
DTSTART:20260721T230000Z
DTEND:20260722T014500Z
LOCATION:Highland Yacht Club (5  Brimley Rd\, Toronto\, ON M1M 3W3 Canada)
SUMMARY:Fun Series Race 4
URL:https://www.bpyc.on.ca/index.php/racing/racing-schedule/event/1226-fun-
 series-race-4
END:VEVENT
END:VCALENDAR
