BEGIN:VCALENDAR
VERSION:2.0
PRODID:-//https://www.bpyc.on.ca///NONSGML kigkonsult.se iCalcreator 2.10.15//
METHOD:PUBLISH
BEGIN:VEVENT
UID:20260424T092357UTC-8841mLBgk6@https://www.bpyc.on.ca/
DTSTAMP:20260424T092357Z
DESCRIPTION: https://www.bpyc.on.ca/index.php/racing/racing-schedule/event/
 1227-fun-series-race-5
DTSTART:20260804T230000Z
DTEND:20260805T014500Z
LOCATION:Highland Yacht Club (5  Brimley Rd\, Toronto\, ON M1M 3W3 Canada)
SUMMARY:Fun Series Race 5
URL:https://www.bpyc.on.ca/index.php/racing/racing-schedule/event/1227-fun-
 series-race-5
END:VEVENT
END:VCALENDAR
