BEGIN:VCALENDAR
VERSION:2.0
PRODID:-//https://www.bpyc.on.ca///NONSGML kigkonsult.se iCalcreator 2.10.15//
METHOD:PUBLISH
BEGIN:VEVENT
UID:20260424T092442UTC-1887UuFl0X@https://www.bpyc.on.ca/
DTSTAMP:20260424T092442Z
DESCRIPTION: https://www.bpyc.on.ca/index.php/racing/racing-schedule/event/
 1228-fun-series-race-6
DTSTART:20260818T230000Z
DTEND:20260819T014500Z
LOCATION:Cathedral Bluffs Yacht Club (Unnamed Road\, Toronto\, ON M1M 3W3\,
  Canada)
SUMMARY:Fun Series Race 6
URL:https://www.bpyc.on.ca/index.php/racing/racing-schedule/event/1228-fun-
 series-race-6
END:VEVENT
END:VCALENDAR
