BEGIN:VCALENDAR
VERSION:2.0
PRODID:-//https://www.bpyc.on.ca///NONSGML kigkonsult.se iCalcreator 2.10.15//
METHOD:PUBLISH
BEGIN:VEVENT
UID:20260424T092440UTC-388772LEjX@https://www.bpyc.on.ca/
DTSTAMP:20260424T092440Z
DESCRIPTION: https://www.bpyc.on.ca/index.php/racing/racing-schedule/event/
 1272-summer-series-race-7
DTSTART:20260819T224500Z
DTEND:20260820T014500Z
LOCATION:Bluffers Park Yacht Club (15 Bluffers Park Rd.\, Scarborough\, ON 
 M1M 3W3\, Canada)
SUMMARY:Summer Series Race 7
URL:https://www.bpyc.on.ca/index.php/racing/racing-schedule/event/1272-summ
 er-series-race-7
END:VEVENT
END:VCALENDAR
