BEGIN:VCALENDAR
VERSION:2.0
PRODID:-//https://www.bpyc.on.ca///NONSGML kigkonsult.se iCalcreator 2.10.15//
METHOD:PUBLISH
BEGIN:VEVENT
UID:20260424T092616UTC-9307gOaz8V@https://www.bpyc.on.ca/
DTSTAMP:20260424T092616Z
DESCRIPTION: https://www.bpyc.on.ca/index.php/racing/racing-schedule/event/
 1273-double-handed-series-race-6
DTSTART:20260810T224500Z
DTEND:20260811T014500Z
LOCATION:Highland Yacht Club (5  Brimley Rd\, Toronto\, ON M1M 3W3 Canada)
SUMMARY:Double Handed Series Race 6
URL:https://www.bpyc.on.ca/index.php/racing/racing-schedule/event/1273-doub
 le-handed-series-race-6
END:VEVENT
END:VCALENDAR
