BEGIN:VCALENDAR
VERSION:2.0
PRODID:-//https://www.bpyc.on.ca///NONSGML kigkonsult.se iCalcreator 2.10.15//
METHOD:PUBLISH
BEGIN:VEVENT
UID:20260424T094953UTC-5248kDnutf@https://www.bpyc.on.ca/
DTSTAMP:20260424T094953Z
DESCRIPTION: https://www.bpyc.on.ca/index.php/racing/racing-schedule/event/
 50-spring-series-race-4
DTSTART:20260527T224500Z
DTEND:20260528T014500Z
LOCATION:Bluffers Park Yacht Club (15 Bluffers Park Rd.\, Scarborough\, ON 
 M1M 3W3\, Canada)
SUMMARY:Spring Series Race 4
URL:https://www.bpyc.on.ca/index.php/racing/racing-schedule/event/50-spring
 -series-race-4
END:VEVENT
END:VCALENDAR
