BEGIN:VCALENDAR
VERSION:2.0
PRODID:-//https://www.bpyc.on.ca///NONSGML kigkonsult.se iCalcreator 2.10.15//
METHOD:PUBLISH
BEGIN:VEVENT
UID:20260424T095556UTC-4932E9cW44@https://www.bpyc.on.ca/
DTSTAMP:20260424T095556Z
DESCRIPTION: https://www.bpyc.on.ca/index.php/racing/racing-schedule/event/
 51-spring-series-race-1
DTSTART:20260506T224500Z
DTEND:20260507T014500Z
LOCATION:Highland Yacht Club (5  Brimley Rd\, Toronto\, ON M1M 3W3 Canada)
SUMMARY:Spring Series Race 1
URL:https://www.bpyc.on.ca/index.php/racing/racing-schedule/event/51-spring
 -series-race-1
END:VEVENT
END:VCALENDAR
