BEGIN:VCALENDAR
VERSION:2.0
PRODID:-//https://www.bpyc.on.ca///NONSGML kigkonsult.se iCalcreator 2.10.15//
METHOD:PUBLISH
BEGIN:VEVENT
UID:20260424T064559UTC-8634cSUNnE@https://www.bpyc.on.ca/
DTSTAMP:20260424T064559Z
DESCRIPTION: https://www.bpyc.on.ca/index.php/racing/racing-schedule/event/
 52-spring-series-race-6
DTSTART:20260610T224500Z
DTEND:20260611T014500Z
LOCATION:Bluffers Park Yacht Club (15 Bluffers Park Rd.\, Scarborough\, ON 
 M1M 3W3\, Canada)
SUMMARY:Spring Series Race 6
URL:https://www.bpyc.on.ca/index.php/racing/racing-schedule/event/52-spring
 -series-race-6
END:VEVENT
END:VCALENDAR
