BEGIN:VCALENDAR
VERSION:2.0
PRODID:-//https://www.bpyc.on.ca///NONSGML kigkonsult.se iCalcreator 2.10.15//
METHOD:PUBLISH
BEGIN:VEVENT
UID:20260424T093001UTC-8586xtGVJJ@https://www.bpyc.on.ca/
DTSTAMP:20260424T093001Z
DESCRIPTION: https://www.bpyc.on.ca/index.php/racing/racing-schedule/event/
 53-spring-series-race-3
DTSTART:20260520T224500Z
DTEND:20260521T014500Z
LOCATION:Highland Yacht Club (5  Brimley Rd\, Toronto\, ON M1M 3W3 Canada)
SUMMARY:Spring Series Race 3
URL:https://www.bpyc.on.ca/index.php/racing/racing-schedule/event/53-spring
 -series-race-3
END:VEVENT
END:VCALENDAR
