BEGIN:VCALENDAR
VERSION:2.0
PRODID:-//https://www.bpyc.on.ca///NONSGML kigkonsult.se iCalcreator 2.10.15//
METHOD:PUBLISH
BEGIN:VEVENT
UID:20260424T093029UTC-7643pCxDJg@https://www.bpyc.on.ca/
DTSTAMP:20260424T093029Z
DESCRIPTION: https://www.bpyc.on.ca/index.php/racing/racing-schedule/event/
 54-spring-series-race-8
DTSTART:20260624T224500Z
DTEND:20260625T014500Z
LOCATION:Cathedral Bluffs Yacht Club (Unnamed Road\, Toronto\, ON M1M 3W3\,
  Canada)
SUMMARY:Spring Series Race 8
URL:https://www.bpyc.on.ca/index.php/racing/racing-schedule/event/54-spring
 -series-race-8
END:VEVENT
END:VCALENDAR
