BEGIN:VCALENDAR
VERSION:2.0
PRODID:-//https://www.bpyc.on.ca///NONSGML kigkonsult.se iCalcreator 2.10.15//
METHOD:PUBLISH
BEGIN:VEVENT
UID:20260424T062956UTC-9215297URv@https://www.bpyc.on.ca/
DTSTAMP:20260424T062956Z
DESCRIPTION: https://www.bpyc.on.ca/index.php/racing/racing-schedule/event/
 57-double-handed-series-race-2
DTSTART:20260615T224500Z
DTEND:20260616T014500Z
LOCATION:Highland Yacht Club (5  Brimley Rd\, Toronto\, ON M1M 3W3 Canada)
SUMMARY:Double Handed Series Race 2
URL:https://www.bpyc.on.ca/index.php/racing/racing-schedule/event/57-double
 -handed-series-race-2
END:VEVENT
END:VCALENDAR
