BEGIN:VCALENDAR
VERSION:2.0
PRODID:-//https://www.bpyc.on.ca///NONSGML kigkonsult.se iCalcreator 2.10.15//
METHOD:PUBLISH
BEGIN:VEVENT
UID:20260424T081745UTC-2538vHukCI@https://www.bpyc.on.ca/
DTSTAMP:20260424T081745Z
DESCRIPTION: https://www.bpyc.on.ca/index.php/racing/racing-schedule/event/
 58-double-handed-series-race-3
DTSTART:20260629T224500Z
DTEND:20260630T014500Z
LOCATION:Bluffers Park Yacht Club (15 Bluffers Park Rd.\, Scarborough\, ON 
 M1M 3W3\, Canada)
SUMMARY:Double Handed Series Race 3
URL:https://www.bpyc.on.ca/index.php/racing/racing-schedule/event/58-double
 -handed-series-race-3
END:VEVENT
END:VCALENDAR
