BEGIN:VCALENDAR
VERSION:2.0
PRODID:-//https://www.bpyc.on.ca///NONSGML kigkonsult.se iCalcreator 2.10.15//
METHOD:PUBLISH
BEGIN:VEVENT
UID:20260424T092354UTC-4011z8FmhW@https://www.bpyc.on.ca/
DTSTAMP:20260424T092354Z
DESCRIPTION: https://www.bpyc.on.ca/index.php/racing/racing-schedule/event/
 61-summer-series-race-1
DTSTART:20260708T224500Z
DTEND:20260709T014500Z
LOCATION:Bluffers Park Yacht Club (15 Bluffers Park Rd.\, Scarborough\, ON 
 M1M 3W3\, Canada)
SUMMARY:Summer Series Race 1
URL:https://www.bpyc.on.ca/index.php/racing/racing-schedule/event/61-summer
 -series-race-1
END:VEVENT
END:VCALENDAR
