BEGIN:VCALENDAR
VERSION:2.0
PRODID:-//https://www.bpyc.on.ca///NONSGML kigkonsult.se iCalcreator 2.10.15//
METHOD:PUBLISH
BEGIN:VEVENT
UID:20260424T092300UTC-0397NFCs8k@https://www.bpyc.on.ca/
DTSTAMP:20260424T092300Z
DESCRIPTION: https://www.bpyc.on.ca/index.php/racing/racing-schedule/event/
 63-summer-series-race-2
DTSTART:20260715T224500Z
DTEND:20260716T014500Z
LOCATION:Highland Yacht Club (5  Brimley Rd\, Toronto\, ON M1M 3W3 Canada)
SUMMARY:Summer Series Race 2
URL:https://www.bpyc.on.ca/index.php/racing/racing-schedule/event/63-summer
 -series-race-2
END:VEVENT
END:VCALENDAR
