BEGIN:VCALENDAR
VERSION:2.0
PRODID:-//https://www.bpyc.on.ca///NONSGML kigkonsult.se iCalcreator 2.10.15//
METHOD:PUBLISH
BEGIN:VEVENT
UID:20260424T092402UTC-8435xiUzDd@https://www.bpyc.on.ca/
DTSTAMP:20260424T092402Z
DESCRIPTION: https://www.bpyc.on.ca/index.php/racing/racing-schedule/event/
 64-summer-series-race-3
DTSTART:20260722T224500Z
DTEND:20260723T014500Z
LOCATION:Bluffers Park Yacht Club (15 Bluffers Park Rd.\, Scarborough\, ON 
 M1M 3W3\, Canada)
SUMMARY:Summer Series Race 3
URL:https://www.bpyc.on.ca/index.php/racing/racing-schedule/event/64-summer
 -series-race-3
END:VEVENT
END:VCALENDAR
