BEGIN:VCALENDAR
VERSION:2.0
PRODID:-//https://www.bpyc.on.ca///NONSGML kigkonsult.se iCalcreator 2.10.15//
METHOD:PUBLISH
BEGIN:VEVENT
UID:20260424T081923UTC-5722WTeadU@https://www.bpyc.on.ca/
DTSTAMP:20260424T081923Z
DESCRIPTION: https://www.bpyc.on.ca/index.php/racing/racing-schedule/event/
 65-double-handed-series-race-4
DTSTART:20260713T224500Z
DTEND:20260714T014500Z
LOCATION:Highland Yacht Club (5  Brimley Rd\, Toronto\, ON M1M 3W3 Canada)
SUMMARY:Double Handed Series Race 4
URL:https://www.bpyc.on.ca/index.php/racing/racing-schedule/event/65-double
 -handed-series-race-4
END:VEVENT
END:VCALENDAR
