BEGIN:VCALENDAR
VERSION:2.0
PRODID:-//https://www.bpyc.on.ca///NONSGML kigkonsult.se iCalcreator 2.10.15//
METHOD:PUBLISH
BEGIN:VEVENT
UID:20260424T095307UTC-7327wbsp1F@https://www.bpyc.on.ca/
DTSTAMP:20260424T095307Z
DESCRIPTION: https://www.bpyc.on.ca/index.php/racing/racing-schedule/event/
 66-double-handed-series-race-5
DTSTART:20260727T224500Z
DTEND:20260728T014500Z
LOCATION:Bluffers Park Yacht Club (15 Bluffers Park Rd.\, Scarborough\, ON 
 M1M 3W3\, Canada)
SUMMARY:Double Handed Series Race 5
URL:https://www.bpyc.on.ca/index.php/racing/racing-schedule/event/66-double
 -handed-series-race-5
END:VEVENT
END:VCALENDAR
