BEGIN:VCALENDAR
VERSION:2.0
PRODID:-//https://www.bpyc.on.ca///NONSGML kigkonsult.se iCalcreator 2.10.15//
METHOD:PUBLISH
BEGIN:VEVENT
UID:20260424T092359UTC-5301AvWrs1@https://www.bpyc.on.ca/
DTSTAMP:20260424T092359Z
DESCRIPTION: https://www.bpyc.on.ca/index.php/racing/racing-schedule/event/
 68-summer-series-race-6
DTSTART:20260812T224500Z
DTEND:20260813T014500Z
LOCATION:Highland Yacht Club (5  Brimley Rd\, Toronto\, ON M1M 3W3 Canada)
SUMMARY:Summer Series Race 6
URL:https://www.bpyc.on.ca/index.php/racing/racing-schedule/event/68-summer
 -series-race-6
END:VEVENT
END:VCALENDAR
