BEGIN:VCALENDAR
VERSION:2.0
PRODID:-//https://www.bpyc.on.ca///NONSGML kigkonsult.se iCalcreator 2.10.15//
METHOD:PUBLISH
BEGIN:VEVENT
UID:20260424T092441UTC-1884juVc4t@https://www.bpyc.on.ca/
DTSTAMP:20260424T092441Z
DESCRIPTION: https://www.bpyc.on.ca/index.php/racing/racing-schedule/event/
 69-summer-series-race-5
DTSTART:20260805T224500Z
DTEND:20260806T014500Z
LOCATION:Bluffers Park Yacht Club (15 Bluffers Park Rd.\, Scarborough\, ON 
 M1M 3W3\, Canada)
SUMMARY:Summer Series Race 5
URL:https://www.bpyc.on.ca/index.php/racing/racing-schedule/event/69-summer
 -series-race-5
END:VEVENT
END:VCALENDAR
