BEGIN:VCALENDAR
VERSION:2.0
PRODID:-//https://www.bpyc.on.ca///NONSGML kigkonsult.se iCalcreator 2.10.15//
METHOD:PUBLISH
BEGIN:VEVENT
UID:20260424T094445UTC-5163vzI3Ob@https://www.bpyc.on.ca/
DTSTAMP:20260424T094445Z
DESCRIPTION: https://www.bpyc.on.ca/index.php/racing/racing-schedule/event/
 74-summer-series-race-8
DTSTART:20260826T224500Z
DTEND:20260827T014500Z
LOCATION:Cathedral Bluffs Yacht Club (Unnamed Road\, Toronto\, ON M1M 3W3\,
  Canada)
SUMMARY:Summer Series Race 8
URL:https://www.bpyc.on.ca/index.php/racing/racing-schedule/event/74-summer
 -series-race-8
END:VEVENT
END:VCALENDAR
