BEGIN:VCALENDAR
VERSION:2.0
PRODID:-//https://www.bpyc.on.ca///NONSGML kigkonsult.se iCalcreator 2.10.15//
METHOD:PUBLISH
BEGIN:VEVENT
UID:20260424T094424UTC-2378IIEavV@https://www.bpyc.on.ca/
DTSTAMP:20260424T094424Z
DESCRIPTION: https://www.bpyc.on.ca/index.php/racing/racing-schedule/event/
 75-fall-series-races-3-4
DTSTART;VALUE=DATE:20260927
LOCATION:Highland Yacht Club (5  Brimley Rd\, Toronto\, ON M1M 3W3 Canada)
SUMMARY:Fall Series Races 3 & 4
URL:https://www.bpyc.on.ca/index.php/racing/racing-schedule/event/75-fall-s
 eries-races-3-4
END:VEVENT
END:VCALENDAR
