BEGIN:VCALENDAR
VERSION:2.0
PRODID:-//https://www.bpyc.on.ca///NONSGML kigkonsult.se iCalcreator 2.10.15//
METHOD:PUBLISH
BEGIN:VEVENT
UID:20260424T094420UTC-4583bIUD1l@https://www.bpyc.on.ca/
DTSTAMP:20260424T094420Z
DESCRIPTION: https://www.bpyc.on.ca/index.php/racing/racing-schedule/event/
 76-fall-series-races-5-6
DTSTART;VALUE=DATE:20260920
LOCATION:Cathedral Bluffs Yacht Club (Unnamed Road\, Toronto\, ON M1M 3W3\,
  Canada)
SUMMARY:Fall Series Races 5 & 6
URL:https://www.bpyc.on.ca/index.php/racing/racing-schedule/event/76-fall-s
 eries-races-5-6
END:VEVENT
END:VCALENDAR
