BEGIN:VCALENDAR
VERSION:2.0
PRODID:-//https://www.bpyc.on.ca///NONSGML kigkonsult.se iCalcreator 2.10.15//
METHOD:PUBLISH
BEGIN:VEVENT
UID:20260424T095051UTC-2715fKhWr6@https://www.bpyc.on.ca/
DTSTAMP:20260424T095051Z
DESCRIPTION: https://www.bpyc.on.ca/index.php/racing/racing-schedule/event/
 933-spring-series-race-2
DTSTART:20260513T224500Z
DTEND:20260514T014500Z
LOCATION:Bluffers Park Yacht Club (15 Bluffers Park Rd.\, Scarborough\, ON 
 M1M 3W3\, Canada)
SUMMARY:Spring Series Race 2
URL:https://www.bpyc.on.ca/index.php/racing/racing-schedule/event/933-sprin
 g-series-race-2
END:VEVENT
END:VCALENDAR
