BEGIN:VCALENDAR
VERSION:2.0
PRODID:-//https://www.bpyc.on.ca///NONSGML kigkonsult.se iCalcreator 2.10.15//
METHOD:PUBLISH
BEGIN:VEVENT
UID:20260424T095310UTC-96489EvlMJ@https://www.bpyc.on.ca/
DTSTAMP:20260424T095310Z
DESCRIPTION: https://www.bpyc.on.ca/index.php/racing/racing-schedule/event/
 934-fall-series-races-1-2
DTSTART;VALUE=DATE:20260913
LOCATION:Bluffers Park Yacht Club (15 Bluffers Park Rd.\, Scarborough\, ON 
 M1M 3W3\, Canada)
SUMMARY:Fall Series Races 1 & 2
URL:https://www.bpyc.on.ca/index.php/racing/racing-schedule/event/934-fall-
 series-races-1-2
END:VEVENT
END:VCALENDAR
