BEGIN:VCALENDAR
VERSION:2.0
PRODID:-//https://www.bpyc.on.ca///NONSGML kigkonsult.se iCalcreator 2.10.15//
METHOD:PUBLISH
BEGIN:VEVENT
UID:20260424T094741UTC-2672sawdjD@https://www.bpyc.on.ca/
DTSTAMP:20260424T094741Z
DESCRIPTION: https://www.bpyc.on.ca/index.php/racing/racing-schedule/event/
 958-double-handed-series-race-1
DTSTART:20260601T224500Z
DTEND:20260602T014500Z
LOCATION:Bluffers Park Yacht Club (15 Bluffers Park Rd.\, Scarborough\, ON 
 M1M 3W3\, Canada)
SUMMARY:Double Handed Series Race 1
URL:https://www.bpyc.on.ca/index.php/racing/racing-schedule/event/958-doubl
 e-handed-series-race-1
END:VEVENT
END:VCALENDAR
